BEGIN:VCALENDAR
PRODID:-//hacksw/handcal//NONSGML v1.0//EN
VERSION:2.0
CALSCALE:GREGORIAN
METHOD:PUBLISH
X-WR-CALNAME:Mobility 4 Sessions - Junio 2015
X-WR-TIMEZONE:Europe/Madrid
X-WR-CALDESC:Mobility 4 Sessions - Junio 2015
BEGIN:VEVENT
DTSTART:20150613T083000Z
DTEND:20150613T130000Z
DTSTAMP:20150613T083000Z
UID:7fd4e411d578670ab7c72ad938601d45@betabeers.com
CREATED:20150608T144917Z
DESCRIPTION:https://betabeers.com/event/mobility-4-sessions-junio-2015-13-j
unio-2015-2792/
URL:https://betabeers.com/event/mobility-4-sessions-junio-2015-13-junio-201
5-2792/
LAST-MODIFIED:20150608T144917Z
LOCATION:Palau Macaya - Passeig de Sant Joan, 108, Barcelona - Metro: Verda
guer, líneas 4 y 5 - Bus: Líneas 15, 19, 33, 34, 43, 44, 50, 55 y B24, Ba
rcelona, España
SEQUENCE:0
STATUS:CONFIRMED
SUMMARY:Mobility 4 Sessions - Junio 2015
TRANSP:OPAQUE
END:VEVENT
END:VCALENDAR
