BEGIN:VCALENDAR
PRODID:-//hacksw/handcal//NONSGML v1.0//EN
VERSION:2.0
CALSCALE:GREGORIAN
METHOD:PUBLISH
X-WR-CALNAME:PHP Valencia - Optimiza tu front-end workflow con Twig, Bower y Gulp
X-WR-TIMEZONE:Europe/Madrid
X-WR-CALDESC:PHP Valencia - Optimiza tu front-end workflow con Twig, Bower y Gulp
BEGIN:VEVENT
DTSTART:20150619T180000Z
DTEND:20150619T220000Z
DTSTAMP:20150619T180000Z
UID:1bc5129f1a70cc52f8cf208113f93320@betabeers.com
CREATED:20150531T124147Z
DESCRIPTION:https://betabeers.com/event/php-valencia-optimiza-tu-front-end-
workflow-twig-bower-gulp-2760/
URL:https://betabeers.com/event/php-valencia-optimiza-tu-front-end-workflow
-twig-bower-gulp-2760/
LAST-MODIFIED:20150531T124147Z
LOCATION:Geekshubs, Valencia, España
SEQUENCE:0
STATUS:CONFIRMED
SUMMARY:PHP Valencia - Optimiza tu front-end workflow con Twig, Bower y Gul
p
TRANSP:OPAQUE
END:VEVENT
END:VCALENDAR
