BEGIN:VCALENDAR
PRODID:-//hacksw/handcal//NONSGML v1.0//EN
VERSION:2.0
CALSCALE:GREGORIAN
METHOD:PUBLISH
X-WR-CALNAME:I Cantabria.js
X-WR-TIMEZONE:Europe/Madrid
X-WR-CALDESC:I Cantabria.js
BEGIN:VEVENT
DTSTART:20150611T180000Z
DTEND:20150611T200000Z
DTSTAMP:20150611T180000Z
UID:a3d67966ad802faeae2a1e59928770c4@betabeers.com
CREATED:20150529T195656Z
DESCRIPTION:https://betabeers.com/event/i-cantabriajs-2756/
URL:https://betabeers.com/event/i-cantabriajs-2756/
LAST-MODIFIED:20150529T195656Z
LOCATION:​C/ Río de la Pila, 2-A, entlo, Santander, España, Santander, 
España
SEQUENCE:0
STATUS:CONFIRMED
SUMMARY:I Cantabria.js
TRANSP:OPAQUE
END:VEVENT
END:VCALENDAR
