BEGIN:VCALENDAR
PRODID:-//hacksw/handcal//NONSGML v1.0//EN
VERSION:2.0
CALSCALE:GREGORIAN
METHOD:PUBLISH
X-WR-CALNAME:Internet of Things Santander - 4º IoT Santander Meetup - Taller de creación de dispositivos IoT
X-WR-TIMEZONE:Europe/Madrid
X-WR-CALDESC:Internet of Things Santander - 4º IoT Santander Meetup - Taller de creación de dispositivos IoT
BEGIN:VEVENT
DTSTART:20150522T170000Z
DTEND:20150522T180000Z
DTSTAMP:20150522T170000Z
UID:845d90a5472b5152315c83c38fa395b6@betabeers.com
CREATED:20150509T230041Z
DESCRIPTION:https://betabeers.com/event/internet-things-santander-4-iot-san
tander-meetup-taller-creacion-dispositivos-iot-22-mayo-2015-2724/
URL:https://betabeers.com/event/internet-things-santander-4-iot-santander-m
eetup-taller-creacion-dispositivos-iot-22-mayo-2015-2724/
LAST-MODIFIED:20150509T230041Z
LOCATION:-, Santander, España
SEQUENCE:0
STATUS:CONFIRMED
SUMMARY:Internet of Things Santander - 4º IoT Santander Meetup - Taller de
 creación de dispositivos IoT
TRANSP:OPAQUE
END:VEVENT
END:VCALENDAR
