BEGIN:VCALENDAR
PRODID:-//hacksw/handcal//NONSGML v1.0//EN
VERSION:2.0
CALSCALE:GREGORIAN
METHOD:PUBLISH
X-WR-CALNAME:Co-Founder Speed Dating Barcelona
X-WR-TIMEZONE:Europe/Madrid
X-WR-CALDESC:Co-Founder Speed Dating Barcelona
BEGIN:VEVENT
DTSTART:20120128T100000Z
DTEND:20120128T120000Z
DTSTAMP:20120128T100000Z
UID:8137c38f05417b186da13aab20481e98@betabeers.com
CREATED:20120116T162735Z
DESCRIPTION:https://betabeers.com/event/co-founder-speed-dating-barcelona-2
8-enero-2012-27/
URL:https://betabeers.com/event/co-founder-speed-dating-barcelona-28-enero-
2012-27/
LAST-MODIFIED:20120116T162735Z
LOCATION:Paseo de Gracia, 132, Barcelona, España
SEQUENCE:0
STATUS:CONFIRMED
SUMMARY:Co-Founder Speed Dating Barcelona
TRANSP:OPAQUE
END:VEVENT
END:VCALENDAR
