BEGIN:VCALENDAR
PRODID:-//hacksw/handcal//NONSGML v1.0//EN
VERSION:2.0
CALSCALE:GREGORIAN
METHOD:PUBLISH
X-WR-CALNAME:MalagaMakers GeekBeers - May
X-WR-TIMEZONE:Europe/Madrid
X-WR-CALDESC:MalagaMakers GeekBeers - May
BEGIN:VEVENT
DTSTART:20150521T180000Z
DTEND:20150521T200000Z
DTSTAMP:20150521T180000Z
UID:319ddb18610145ed42addf146259cde4@betabeers.com
CREATED:20150424T110644Z
DESCRIPTION:https://betabeers.com/event/malagamakers-geekbeers-may-2658/
URL:https://betabeers.com/event/malagamakers-geekbeers-may-2658/
LAST-MODIFIED:20150424T110644Z
LOCATION:TBD, Malaga, España
SEQUENCE:0
STATUS:CONFIRMED
SUMMARY:MalagaMakers GeekBeers - May
TRANSP:OPAQUE
END:VEVENT
END:VCALENDAR
