BEGIN:VCALENDAR
PRODID:-//hacksw/handcal//NONSGML v1.0//EN
VERSION:2.0
CALSCALE:GREGORIAN
METHOD:PUBLISH
X-WR-CALNAME:Webinar: Emprender en el sector del Mobile Game
X-WR-TIMEZONE:Europe/Madrid
X-WR-CALDESC:Webinar: Emprender en el sector del Mobile Game
BEGIN:VEVENT
DTSTART:20150422T180000Z
DTEND:20150422T190000Z
DTSTAMP:20150422T180000Z
UID:5030675d53f4a9032c1348a3195a3fa5@betabeers.com
CREATED:20150420T140336Z
DESCRIPTION:https://betabeers.com/event/webinar-emprender-el-sector-del-mob
ile-game-2650/
URL:https://betabeers.com/event/webinar-emprender-el-sector-del-mobile-game
-2650/
LAST-MODIFIED:20150420T140336Z
LOCATION:Online, online
SEQUENCE:0
STATUS:CONFIRMED
SUMMARY:Webinar: Emprender en el sector del Mobile Game
TRANSP:OPAQUE
END:VEVENT
END:VCALENDAR
