BEGIN:VCALENDAR
PRODID:-//hacksw/handcal//NONSGML v1.0//EN
VERSION:2.0
CALSCALE:GREGORIAN
METHOD:PUBLISH
X-WR-CALNAME:APIdays Mediterranea
X-WR-TIMEZONE:Europe/Madrid
X-WR-CALDESC:APIdays Mediterranea
BEGIN:VEVENT
DTSTART:20150506T080000Z
DTEND:20150507T160000Z
DTSTAMP:20150506T080000Z
UID:05ace2265b8219bf4fc4e4ba241ba08d@betabeers.com
CREATED:20150420T122248Z
DESCRIPTION:https://betabeers.com/event/apidays-mediterranea-2649/
URL:https://betabeers.com/event/apidays-mediterranea-2649/
LAST-MODIFIED:20150420T122248Z
LOCATION:Mobile World Centre 2 Carrer de Fontanella 08002 Barcelona, Barcel
ona, España
SEQUENCE:0
STATUS:CONFIRMED
SUMMARY:APIdays Mediterranea
TRANSP:OPAQUE
END:VEVENT
END:VCALENDAR
