BEGIN:VCALENDAR
PRODID:-//hacksw/handcal//NONSGML v1.0//EN
VERSION:2.0
CALSCALE:GREGORIAN
METHOD:PUBLISH
X-WR-CALNAME:AngularJS Barcelona - April Open Space
X-WR-TIMEZONE:Europe/Madrid
X-WR-CALDESC:AngularJS Barcelona - April Open Space
BEGIN:VEVENT
DTSTART:20150430T183000Z
DTEND:20150430T193000Z
DTSTAMP:20150430T183000Z
UID:e06fbd8ff949d0e0a7027aacc31b21ae@betabeers.com
CREATED:20150411T230055Z
DESCRIPTION:https://betabeers.com/event/angularjs-barcelona-april-open-spac
e-30-abril-2015-2632/
URL:https://betabeers.com/event/angularjs-barcelona-april-open-space-30-abr
il-2015-2632/
LAST-MODIFIED:20150411T230055Z
LOCATION:Carrer Bailen 11, Barcelona, España
SEQUENCE:0
STATUS:CONFIRMED
SUMMARY:AngularJS Barcelona - April Open Space
TRANSP:OPAQUE
END:VEVENT
END:VCALENDAR
