BEGIN:VCALENDAR
PRODID:-//hacksw/handcal//NONSGML v1.0//EN
VERSION:2.0
CALSCALE:GREGORIAN
METHOD:PUBLISH
X-WR-CALNAME:Scala Developers Barcelona - [INTRO] Intro to scala
X-WR-TIMEZONE:Europe/Madrid
X-WR-CALDESC:Scala Developers Barcelona - [INTRO] Intro to scala
BEGIN:VEVENT
DTSTART:20150415T180000Z
DTEND:20150415T190000Z
DTSTAMP:20150415T180000Z
UID:17a75eb5e27afca7a8616e3c3156ca0e@betabeers.com
CREATED:20150411T230054Z
DESCRIPTION:https://betabeers.com/event/scala-developers-barcelona-intro-in
tro-to-scala-15-abril-2015-2631/
URL:https://betabeers.com/event/scala-developers-barcelona-intro-intro-to-s
cala-15-abril-2015-2631/
LAST-MODIFIED:20150411T230054Z
LOCATION:Carrer Bailèn, 11, 08010, Barcelona, España
SEQUENCE:0
STATUS:CONFIRMED
SUMMARY:Scala Developers Barcelona - [INTRO] Intro to scala
TRANSP:OPAQUE
END:VEVENT
END:VCALENDAR
