BEGIN:VCALENDAR
PRODID:-//hacksw/handcal//NONSGML v1.0//EN
VERSION:2.0
CALSCALE:GREGORIAN
METHOD:PUBLISH
X-WR-CALNAME:Big Data Valencia - Workshop { kaggle  } - Valencia Data Scientist
X-WR-TIMEZONE:Europe/Madrid
X-WR-CALDESC:Big Data Valencia - Workshop { kaggle  } - Valencia Data Scientist
BEGIN:VEVENT
DTSTART:20150409T180000Z
DTEND:20150409T190000Z
DTSTAMP:20150409T180000Z
UID:422a2fcf04a67deff457106933f7154b@betabeers.com
CREATED:20150404T230132Z
DESCRIPTION:https://betabeers.com/event/big-data-valencia-workshop-kaggle-v
alencia-data-scientist-9-abril-2015-2617/
URL:https://betabeers.com/event/big-data-valencia-workshop-kaggle-valencia-
data-scientist-9-abril-2015-2617/
LAST-MODIFIED:20150404T230132Z
LOCATION:C/ de Juan Verdeguer 16, Valencia, España
SEQUENCE:0
STATUS:CONFIRMED
SUMMARY:Big Data Valencia - Workshop { kaggle  } - Valencia Data Scientist
TRANSP:OPAQUE
END:VEVENT
END:VCALENDAR
