BEGIN:VCALENDAR
PRODID:-//hacksw/handcal//NONSGML v1.0//EN
VERSION:2.0
CALSCALE:GREGORIAN
METHOD:PUBLISH
X-WR-CALNAME:The Barcelona Python Meetup Group - Python April Meetup
X-WR-TIMEZONE:Europe/Madrid
X-WR-CALDESC:The Barcelona Python Meetup Group - Python April Meetup
BEGIN:VEVENT
DTSTART:20150416T180000Z
DTEND:20150416T190000Z
DTSTAMP:20150416T180000Z
UID:6be1c4c00ec2e5ee5d541f54d1fb8507@betabeers.com
CREATED:20150404T230008Z
DESCRIPTION:https://betabeers.com/event/the-barcelona-python-meetup-group-p
ython-april-meetup-16-abril-2015-2600/
URL:https://betabeers.com/event/the-barcelona-python-meetup-group-python-ap
ril-meetup-16-abril-2015-2600/
LAST-MODIFIED:20150404T230008Z
LOCATION:c/ Dr. Aiguader, 88, Barcelona, España
SEQUENCE:0
STATUS:CONFIRMED
SUMMARY:The Barcelona Python Meetup Group - Python April Meetup
TRANSP:OPAQUE
END:VEVENT
END:VCALENDAR
