BEGIN:VCALENDAR
PRODID:-//hacksw/handcal//NONSGML v1.0//EN
VERSION:2.0
CALSCALE:GREGORIAN
METHOD:PUBLISH
X-WR-CALNAME:We love JavaScript! Barcelona
X-WR-TIMEZONE:Europe/Madrid
X-WR-CALDESC:We love JavaScript! Barcelona
BEGIN:VEVENT
DTSTART:20120128T080000Z
DTEND:20120128T160000Z
DTSTAMP:20120128T080000Z
UID:93d8ce624dd3df2e0cc0af31611c74a8@betabeers.com
CREATED:20120116T154610Z
DESCRIPTION:https://betabeers.com/event/we-love-javascript-barcelona-28-ene
ro-2012-26/
URL:https://betabeers.com/event/we-love-javascript-barcelona-28-enero-2012-
26/
LAST-MODIFIED:20120116T154610Z
LOCATION:Edificio Meridian  C/ Rosselló i Porcel, 21, planta 17, Barcelona
, España
SEQUENCE:0
STATUS:CONFIRMED
SUMMARY:We love JavaScript! Barcelona
TRANSP:OPAQUE
END:VEVENT
END:VCALENDAR
