BEGIN:VCALENDAR
PRODID:-//hacksw/handcal//NONSGML v1.0//EN
VERSION:2.0
CALSCALE:GREGORIAN
METHOD:PUBLISH
X-WR-CALNAME:Cádiz WordPress Meetup - WooCommerce desde cero
X-WR-TIMEZONE:Europe/Madrid
X-WR-CALDESC:Cádiz WordPress Meetup - WooCommerce desde cero
BEGIN:VEVENT
DTSTART:20150417T180000Z
DTEND:20150417T190000Z
DTSTAMP:20150417T180000Z
UID:194196a5955ee435293f6818e5cbcb7d@betabeers.com
CREATED:20150328T230107Z
DESCRIPTION:https://betabeers.com/event/cadiz-wordpress-meetup-woocommerce-
desde-cero-17-abril-2015-2595/
URL:https://betabeers.com/event/cadiz-wordpress-meetup-woocommerce-desde-ce
ro-17-abril-2015-2595/
LAST-MODIFIED:20150328T230107Z
LOCATION:-, Cadiz, España
SEQUENCE:0
STATUS:CONFIRMED
SUMMARY:Cádiz WordPress Meetup - WooCommerce desde cero
TRANSP:OPAQUE
END:VEVENT
END:VCALENDAR
