BEGIN:VCALENDAR
PRODID:-//hacksw/handcal//NONSGML v1.0//EN
VERSION:2.0
CALSCALE:GREGORIAN
METHOD:PUBLISH
X-WR-CALNAME:Microsoft Web & Cloud Tour 2015 [Palma]
X-WR-TIMEZONE:Europe/Madrid
X-WR-CALDESC:Microsoft Web & Cloud Tour 2015 [Palma]
BEGIN:VEVENT
DTSTART:20150327T080000Z
DTEND:20150327T183000Z
DTSTAMP:20150327T080000Z
UID:848cced3ca542bf47c177aef364e71bf@betabeers.com
CREATED:20150312T155405Z
DESCRIPTION:https://betabeers.com/event/microsoft-web-cloud-tour-2015-palma
-2559/
URL:https://betabeers.com/event/microsoft-web-cloud-tour-2015-palma-2559/
LAST-MODIFIED:20150312T155405Z
LOCATION:Centre Empresarial Son Espanyol - Sala de Prensa del Parc Bit C/ L
aura Bassi s/n, Palma, España
SEQUENCE:0
STATUS:CONFIRMED
SUMMARY:Microsoft Web & Cloud Tour 2015 [Palma]
TRANSP:OPAQUE
END:VEVENT
END:VCALENDAR
