BEGIN:VCALENDAR
PRODID:-//hacksw/handcal//NONSGML v1.0//EN
VERSION:2.0
CALSCALE:GREGORIAN
METHOD:PUBLISH
X-WR-CALNAME:Music Hack Day Barcelona
X-WR-TIMEZONE:Europe/Madrid
X-WR-CALDESC:Music Hack Day Barcelona
BEGIN:VEVENT
DTSTART:20120614T090000Z
DTEND:20120615T200000Z
DTSTAMP:20120614T090000Z
UID:7d31d777653fb0ea5dd2ad9435f17aed@betabeers.com
CREATED:20120502T125325Z
DESCRIPTION:https://betabeers.com/event/music-hack-day-barcelona-14-junio-2
012-252/
URL:https://betabeers.com/event/music-hack-day-barcelona-14-junio-2012-252/
LAST-MODIFIED:20120502T125325Z
LOCATION:Centre de Cultura Contemporània de Barcelona Montalegre, 5, Barce
lona, España
SEQUENCE:0
STATUS:CONFIRMED
SUMMARY:Music Hack Day Barcelona
TRANSP:OPAQUE
END:VEVENT
END:VCALENDAR
