BEGIN:VCALENDAR
PRODID:-//hacksw/handcal//NONSGML v1.0//EN
VERSION:2.0
CALSCALE:GREGORIAN
METHOD:PUBLISH
X-WR-CALNAME:Barcelona MongoDB User Group - Fa molt temps que no fem res  - It's about time!
X-WR-TIMEZONE:Europe/Madrid
X-WR-CALDESC:Barcelona MongoDB User Group - Fa molt temps que no fem res  - It's about time!
BEGIN:VEVENT
DTSTART:20150305T180000Z
DTEND:20150305T190000Z
DTSTAMP:20150305T180000Z
UID:f388658f839b51e0fc352fffdbd74eae@betabeers.com
CREATED:20150214T230056Z
DESCRIPTION:https://betabeers.com/event/barcelona-mongodb-user-group-fa-mol
t-temps-que-no-fem-res-its-about-time-5-marzo-2015-2485/
URL:https://betabeers.com/event/barcelona-mongodb-user-group-fa-molt-temps-
que-no-fem-res-its-about-time-5-marzo-2015-2485/
LAST-MODIFIED:20150214T230056Z
LOCATION:Plaça de Catalunya 1, 08002, Barcelona, España
SEQUENCE:0
STATUS:CONFIRMED
SUMMARY:Barcelona MongoDB User Group - Fa molt temps que no fem res  - It's
 about time!
TRANSP:OPAQUE
END:VEVENT
END:VCALENDAR
