BEGIN:VCALENDAR
PRODID:-//hacksw/handcal//NONSGML v1.0//EN
VERSION:2.0
CALSCALE:GREGORIAN
METHOD:PUBLISH
X-WR-CALNAME:WordPress Barcelona - Convierte tu WordPress en una App
X-WR-TIMEZONE:Europe/Madrid
X-WR-CALDESC:WordPress Barcelona - Convierte tu WordPress en una App
BEGIN:VEVENT
DTSTART:20150224T180000Z
DTEND:20150224T190000Z
DTSTAMP:20150224T180000Z
UID:dbc717556ca1d71961ef8e81c5cbba21@betabeers.com
CREATED:20150131T230122Z
DESCRIPTION:https://betabeers.com/event/wordpress-barcelona-convierte-tu-wo
rdpress-una-app-24-febrero-2015-2452/
URL:https://betabeers.com/event/wordpress-barcelona-convierte-tu-wordpress-
una-app-24-febrero-2015-2452/
LAST-MODIFIED:20150131T230122Z
LOCATION:Fontanella 2, Barcelona, España
SEQUENCE:0
STATUS:CONFIRMED
SUMMARY:WordPress Barcelona - Convierte tu WordPress en una App
TRANSP:OPAQUE
END:VEVENT
END:VCALENDAR
