BEGIN:VCALENDAR
PRODID:-//hacksw/handcal//NONSGML v1.0//EN
VERSION:2.0
CALSCALE:GREGORIAN
METHOD:PUBLISH
X-WR-CALNAME:Scala Developers Barcelona - Coding Dojo - TDD intro session
X-WR-TIMEZONE:Europe/Madrid
X-WR-CALDESC:Scala Developers Barcelona - Coding Dojo - TDD intro session
BEGIN:VEVENT
DTSTART:20150211T180000Z
DTEND:20150211T190000Z
DTSTAMP:20150211T180000Z
UID:f6ccc8e2f30af34b6147edb52f4a3e4e@betabeers.com
CREATED:20150131T230120Z
DESCRIPTION:https://betabeers.com/event/scala-developers-barcelona-coding-d
ojo-tdd-intro-session-11-febrero-2015-2451/
URL:https://betabeers.com/event/scala-developers-barcelona-coding-dojo-tdd-
intro-session-11-febrero-2015-2451/
LAST-MODIFIED:20150131T230120Z
LOCATION:Carrer Bailèn, 11, 08010, Barcelona, España
SEQUENCE:0
STATUS:CONFIRMED
SUMMARY:Scala Developers Barcelona - Coding Dojo - TDD intro session
TRANSP:OPAQUE
END:VEVENT
END:VCALENDAR
