BEGIN:VCALENDAR
PRODID:-//hacksw/handcal//NONSGML v1.0//EN
VERSION:2.0
CALSCALE:GREGORIAN
METHOD:PUBLISH
X-WR-CALNAME:BilboStack 2012
X-WR-TIMEZONE:Europe/Madrid
X-WR-CALDESC:BilboStack 2012
BEGIN:VEVENT
DTSTART:20120602T080000Z
DTEND:20120602T120000Z
DTSTAMP:20120602T080000Z
UID:63f23cf2ced7c2cac28680337a115816@betabeers.com
CREATED:20120430T130418Z
DESCRIPTION:https://betabeers.com/event/bilbostack-2012-244/
URL:https://betabeers.com/event/bilbostack-2012-244/
LAST-MODIFIED:20120430T130418Z
LOCATION:Universidad de Deusto - Avda. de las Universidades, 24, Bilbao, Es
paña
SEQUENCE:0
STATUS:CONFIRMED
SUMMARY:BilboStack 2012
TRANSP:OPAQUE
END:VEVENT
END:VCALENDAR
