BEGIN:VCALENDAR
PRODID:-//hacksw/handcal//NONSGML v1.0//EN
VERSION:2.0
CALSCALE:GREGORIAN
METHOD:PUBLISH
X-WR-CALNAME:The Barcelona Python Meetup Group - Python February Meetup
X-WR-TIMEZONE:Europe/Madrid
X-WR-CALDESC:The Barcelona Python Meetup Group - Python February Meetup
BEGIN:VEVENT
DTSTART:20150219T180000Z
DTEND:20150219T190000Z
DTSTAMP:20150219T180000Z
UID:039708d178b7436a1b8da0dda4046b0a@betabeers.com
CREATED:20150131T230023Z
DESCRIPTION:https://betabeers.com/event/the-barcelona-python-meetup-group-p
ython-february-meetup-19-febrero-2015-2437/
URL:https://betabeers.com/event/the-barcelona-python-meetup-group-python-fe
bruary-meetup-19-febrero-2015-2437/
LAST-MODIFIED:20150131T230023Z
LOCATION:-, Barcelona, España
SEQUENCE:0
STATUS:CONFIRMED
SUMMARY:The Barcelona Python Meetup Group - Python February Meetup
TRANSP:OPAQUE
END:VEVENT
END:VCALENDAR
