BEGIN:VCALENDAR
PRODID:-//hacksw/handcal//NONSGML v1.0//EN
VERSION:2.0
CALSCALE:GREGORIAN
METHOD:PUBLISH
X-WR-CALNAME:Barcelona Cassandra Users - Cassandra & Java + Cassandra y Spark para el Internet of Things
X-WR-TIMEZONE:Europe/Madrid
X-WR-CALDESC:Barcelona Cassandra Users - Cassandra & Java + Cassandra y Spark para el Internet of Things
BEGIN:VEVENT
DTSTART:20150129T180000Z
DTEND:20150129T190000Z
DTSTAMP:20150129T180000Z
UID:254261b218e73f087693b7e49389f0fd@betabeers.com
CREATED:20150124T230122Z
DESCRIPTION:https://betabeers.com/event/barcelona-cassandra-users-cassandra
-java-cassandra-spark-el-internet-things-29-enero-2015-2432/
URL:https://betabeers.com/event/barcelona-cassandra-users-cassandra-java-ca
ssandra-spark-el-internet-things-29-enero-2015-2432/
LAST-MODIFIED:20150124T230122Z
LOCATION:-, Barcelona, España
SEQUENCE:0
STATUS:CONFIRMED
SUMMARY:Barcelona Cassandra Users - Cassandra & Java + Cassandra y Spark pa
ra el Internet of Things
TRANSP:OPAQUE
END:VEVENT
END:VCALENDAR
