BEGIN:VCALENDAR
PRODID:-//hacksw/handcal//NONSGML v1.0//EN
VERSION:2.0
CALSCALE:GREGORIAN
METHOD:PUBLISH
X-WR-CALNAME:PyLadies BCN - PyLadies January Meetup
X-WR-TIMEZONE:Europe/Madrid
X-WR-CALDESC:PyLadies BCN - PyLadies January Meetup
BEGIN:VEVENT
DTSTART:20150129T180000Z
DTEND:20150129T190000Z
DTSTAMP:20150129T180000Z
UID:edf7c24c98febdfea58af3d24fb806d0@betabeers.com
CREATED:20150110T230110Z
DESCRIPTION:https://betabeers.com/event/pyladies-bcn-pyladies-january-meetu
p-29-enero-2015-2400/
URL:https://betabeers.com/event/pyladies-bcn-pyladies-january-meetup-29-ene
ro-2015-2400/
LAST-MODIFIED:20150110T230110Z
LOCATION:-, Barcelona, España
SEQUENCE:0
STATUS:CONFIRMED
SUMMARY:PyLadies BCN - PyLadies January Meetup
TRANSP:OPAQUE
END:VEVENT
END:VCALENDAR
