BEGIN:VCALENDAR
PRODID:-//hacksw/handcal//NONSGML v1.0//EN
VERSION:2.0
CALSCALE:GREGORIAN
METHOD:PUBLISH
X-WR-CALNAME:The Barcelona Python Meetup Group - Python January Meetup
X-WR-TIMEZONE:Europe/Madrid
X-WR-CALDESC:The Barcelona Python Meetup Group - Python January Meetup
BEGIN:VEVENT
DTSTART:20150122T180000Z
DTEND:20150122T190000Z
DTSTAMP:20150122T180000Z
UID:fb11b0cb7f0a8f8e4292ec7dc034fd49@betabeers.com
CREATED:20150110T230012Z
DESCRIPTION:https://betabeers.com/event/the-barcelona-python-meetup-group-p
ython-january-meetup-22-enero-2015-2394/
URL:https://betabeers.com/event/the-barcelona-python-meetup-group-python-ja
nuary-meetup-22-enero-2015-2394/
LAST-MODIFIED:20150110T230012Z
LOCATION:the hacker accelerator, Barcelona, España
SEQUENCE:0
STATUS:CONFIRMED
SUMMARY:The Barcelona Python Meetup Group - Python January Meetup
TRANSP:OPAQUE
END:VEVENT
END:VCALENDAR
