BEGIN:VCALENDAR
PRODID:-//hacksw/handcal//NONSGML v1.0//EN
VERSION:2.0
CALSCALE:GREGORIAN
METHOD:PUBLISH
X-WR-CALNAME:18 edicion Betabeers Zaragoza
X-WR-TIMEZONE:Europe/Madrid
X-WR-CALDESC:18 edicion Betabeers Zaragoza
BEGIN:VEVENT
DTSTART:20150109T180000Z
DTEND:20150109T200000Z
DTSTAMP:20150109T180000Z
UID:829a0de3eb72d5d8679f240ee0d481cc@betabeers.com
CREATED:20150107T163124Z
DESCRIPTION:https://betabeers.com/event/18-edicion-betabeers-zaragoza-2391/
URL:https://betabeers.com/event/18-edicion-betabeers-zaragoza-2391/
LAST-MODIFIED:20150107T163124Z
LOCATION:Avenida de la Autonomia, 50003 Zaragoza, Zaragoza, España
SEQUENCE:0
STATUS:CONFIRMED
SUMMARY:18 edicion Betabeers Zaragoza
TRANSP:OPAQUE
END:VEVENT
END:VCALENDAR
