BEGIN:VCALENDAR
PRODID:-//hacksw/handcal//NONSGML v1.0//EN
VERSION:2.0
CALSCALE:GREGORIAN
METHOD:PUBLISH
X-WR-CALNAME:Preguntas y Respuestas sobre el nuevo IVA 2015 - BCN
X-WR-TIMEZONE:Europe/Madrid
X-WR-CALDESC:Preguntas y Respuestas sobre el nuevo IVA 2015 - BCN
BEGIN:VEVENT
DTSTART:20150112T180000Z
DTEND:20150112T200000Z
DTSTAMP:20150112T180000Z
UID:7b3817ad05e7c661260bf5484c959698@betabeers.com
CREATED:20150106T121035Z
DESCRIPTION:https://betabeers.com/event/preguntas-respuestas-sobre-el-nuevo
-iva-2015-bcn-2390/
URL:https://betabeers.com/event/preguntas-respuestas-sobre-el-nuevo-iva-201
5-bcn-2390/
LAST-MODIFIED:20150106T121035Z
LOCATION:betahaus I Barcelona - Coworking Space 7 Carrer de Vilafranca, Bar
celona, España
SEQUENCE:0
STATUS:CONFIRMED
SUMMARY:Preguntas y Respuestas sobre el nuevo IVA 2015 - BCN
TRANSP:OPAQUE
END:VEVENT
END:VCALENDAR
