BEGIN:VCALENDAR
PRODID:-//hacksw/handcal//NONSGML v1.0//EN
VERSION:2.0
CALSCALE:GREGORIAN
METHOD:PUBLISH
X-WR-CALNAME:WordPress Barcelona - WPML: WordPress multi idioma
X-WR-TIMEZONE:Europe/Madrid
X-WR-CALDESC:WordPress Barcelona - WPML: WordPress multi idioma
BEGIN:VEVENT
DTSTART:20150127T180000Z
DTEND:20150127T190000Z
DTSTAMP:20150127T180000Z
UID:3442c2f46c926fa0339da4a3785d7f9a@betabeers.com
CREATED:20150103T230449Z
DESCRIPTION:https://betabeers.com/event/wordpress-barcelona-wpml-wordpress-
multi-idioma-27-enero-2015-2384/
URL:https://betabeers.com/event/wordpress-barcelona-wpml-wordpress-multi-id
ioma-27-enero-2015-2384/
LAST-MODIFIED:20150103T230449Z
LOCATION:Fontanella 2, Barcelona, España
SEQUENCE:0
STATUS:CONFIRMED
SUMMARY:WordPress Barcelona - WPML: WordPress multi idioma
TRANSP:OPAQUE
END:VEVENT
END:VCALENDAR
