BEGIN:VCALENDAR
PRODID:-//hacksw/handcal//NONSGML v1.0//EN
VERSION:2.0
CALSCALE:GREGORIAN
METHOD:PUBLISH
X-WR-CALNAME:Evento Netsaimada: Internet Of Things en .Net
X-WR-TIMEZONE:Europe/Madrid
X-WR-CALDESC:Evento Netsaimada: Internet Of Things en .Net
BEGIN:VEVENT
DTSTART:20150121T180000Z
DTEND:20150121T193000Z
DTSTAMP:20150121T180000Z
UID:51f374ada18a4753e557a0f72229313b@betabeers.com
CREATED:20141216T120739Z
DESCRIPTION:https://betabeers.com/event/evento-netsaimada-internet-of-thing
s-net-2371/
URL:https://betabeers.com/event/evento-netsaimada-internet-of-things-net-23
71/
LAST-MODIFIED:20141216T120739Z
LOCATION:Centre Empresarial Son Espanyol. Sala de Premsa. C/Laura Bassi. Pa
rcBit, Palma, España
SEQUENCE:0
STATUS:CONFIRMED
SUMMARY:Evento Netsaimada: Internet Of Things en .Net
TRANSP:OPAQUE
END:VEVENT
END:VCALENDAR
