BEGIN:VCALENDAR
PRODID:-//hacksw/handcal//NONSGML v1.0//EN
VERSION:2.0
CALSCALE:GREGORIAN
METHOD:PUBLISH
X-WR-CALNAME:Barcelona Software Craftsmanship - Intro to Test-Driven Development (TDD)
X-WR-TIMEZONE:Europe/Madrid
X-WR-CALDESC:Barcelona Software Craftsmanship - Intro to Test-Driven Development (TDD)
BEGIN:VEVENT
DTSTART:20141222T180000Z
DTEND:20141222T190000Z
DTSTAMP:20141222T180000Z
UID:519136853ca3bd43d51466889748b0e6@betabeers.com
CREATED:20141213T230130Z
DESCRIPTION:https://betabeers.com/event/barcelona-software-craftsmanship-in
tro-to-test-driven-development-tdd-22-diciembre-2014-2369/
URL:https://betabeers.com/event/barcelona-software-craftsmanship-intro-to-t
est-driven-development-tdd-22-diciembre-2014-2369/
LAST-MODIFIED:20141213T230130Z
LOCATION:FIB - Jordi Girona 1-3 (in front of the bar), Barcelona, España
SEQUENCE:0
STATUS:CONFIRMED
SUMMARY:Barcelona Software Craftsmanship - Intro to Test-Driven Development
 (TDD)
TRANSP:OPAQUE
END:VEVENT
END:VCALENDAR
