BEGIN:VCALENDAR
PRODID:-//hacksw/handcal//NONSGML v1.0//EN
VERSION:2.0
CALSCALE:GREGORIAN
METHOD:PUBLISH
X-WR-CALNAME:Docker Barcelona - Introduction to Docker
X-WR-TIMEZONE:Europe/Madrid
X-WR-CALDESC:Docker Barcelona - Introduction to Docker
BEGIN:VEVENT
DTSTART:20141218T180000Z
DTEND:20141218T190000Z
DTSTAMP:20141218T180000Z
UID:3e406a9daa482905c955ec386504e46f@betabeers.com
CREATED:20141213T230125Z
DESCRIPTION:https://betabeers.com/event/docker-barcelona-introduction-to-do
cker-18-diciembre-2014-2368/
URL:https://betabeers.com/event/docker-barcelona-introduction-to-docker-18-
diciembre-2014-2368/
LAST-MODIFIED:20141213T230125Z
LOCATION:the hacker accelerator, Barcelona, España
SEQUENCE:0
STATUS:CONFIRMED
SUMMARY:Docker Barcelona - Introduction to Docker
TRANSP:OPAQUE
END:VEVENT
END:VCALENDAR
