BEGIN:VCALENDAR
PRODID:-//hacksw/handcal//NONSGML v1.0//EN
VERSION:2.0
CALSCALE:GREGORIAN
METHOD:PUBLISH
X-WR-CALNAME:Game Jam ODB Córdoba 2015
X-WR-TIMEZONE:Europe/Madrid
X-WR-CALDESC:Game Jam ODB Córdoba 2015
BEGIN:VEVENT
DTSTART:20150123T150000Z
DTEND:20150125T190000Z
DTSTAMP:20150123T150000Z
UID:edce09e2fef12ce7ad963b65c45f01a2@betabeers.com
CREATED:20141212T191616Z
DESCRIPTION:https://betabeers.com/event/game-jam-odb-cordoba-2015-2362/
URL:https://betabeers.com/event/game-jam-odb-cordoba-2015-2362/
LAST-MODIFIED:20141212T191616Z
LOCATION:Avda. Cervantes 6 (Cosfera), Cordoba, España
SEQUENCE:0
STATUS:CONFIRMED
SUMMARY:Game Jam ODB Córdoba 2015
TRANSP:OPAQUE
END:VEVENT
END:VCALENDAR
