BEGIN:VCALENDAR
PRODID:-//hacksw/handcal//NONSGML v1.0//EN
VERSION:2.0
CALSCALE:GREGORIAN
METHOD:PUBLISH
X-WR-CALNAME:Drupal & Beers diciembre en Valencia
X-WR-TIMEZONE:Europe/Madrid
X-WR-CALDESC:Drupal & Beers diciembre en Valencia
BEGIN:VEVENT
DTSTART:20141222T180000Z
DTEND:20141222T200000Z
DTSTAMP:20141222T180000Z
UID:7a3b761dc3cc31775b35d9ffd90c19cd@betabeers.com
CREATED:20141212T100132Z
DESCRIPTION:https://betabeers.com/event/drupal-beers-diciembre-valencia-236
1/
URL:https://betabeers.com/event/drupal-beers-diciembre-valencia-2361/
LAST-MODIFIED:20141212T100132Z
LOCATION:Pub Max Max, calle del Vinalopo, 11, Valencia, España
SEQUENCE:0
STATUS:CONFIRMED
SUMMARY:Drupal & Beers diciembre en Valencia
TRANSP:OPAQUE
END:VEVENT
END:VCALENDAR
