BEGIN:VCALENDAR
PRODID:-//hacksw/handcal//NONSGML v1.0//EN
VERSION:2.0
CALSCALE:GREGORIAN
METHOD:PUBLISH
X-WR-CALNAME:Drupal Global Sprint Weekend Valencia
X-WR-TIMEZONE:Europe/Madrid
X-WR-CALDESC:Drupal Global Sprint Weekend Valencia
BEGIN:VEVENT
DTSTART:20150117T080000Z
DTEND:20150117T230000Z
DTSTAMP:20150117T080000Z
UID:029913089684b437d0cb54c127951bc8@betabeers.com
CREATED:20141211T105515Z
DESCRIPTION:https://betabeers.com/event/drupal-global-sprint-weekend-valenc
ia-17-enero-2015-2358/
URL:https://betabeers.com/event/drupal-global-sprint-weekend-valencia-17-en
ero-2015-2358/
LAST-MODIFIED:20141211T105515Z
LOCATION:Avenida Cataluña, 11, Valencia, España
SEQUENCE:0
STATUS:CONFIRMED
SUMMARY:Drupal Global Sprint Weekend Valencia
TRANSP:OPAQUE
END:VEVENT
END:VCALENDAR
