BEGIN:VCALENDAR
PRODID:-//hacksw/handcal//NONSGML v1.0//EN
VERSION:2.0
CALSCALE:GREGORIAN
METHOD:PUBLISH
X-WR-CALNAME:MallorcaJS - Ionic and AngularJS : the perfect match for hybrid apps
X-WR-TIMEZONE:Europe/Madrid
X-WR-CALDESC:MallorcaJS - Ionic and AngularJS : the perfect match for hybrid apps
BEGIN:VEVENT
DTSTART:20141218T180000Z
DTEND:20141218T190000Z
DTSTAMP:20141218T180000Z
UID:2e8cd88d43e9be8ee2554bd122c83c94@betabeers.com
CREATED:20141206T230353Z
DESCRIPTION:https://betabeers.com/event/mallorcajs-ionic-and-angularjs-the-
perfect-match-for-hybrid-apps-18-diciembre-2014-2349/
URL:https://betabeers.com/event/mallorcajs-ionic-and-angularjs-the-perfect-
match-for-hybrid-apps-18-diciembre-2014-2349/
LAST-MODIFIED:20141206T230353Z
LOCATION:22 carrer socorrs , Palma, España
SEQUENCE:0
STATUS:CONFIRMED
SUMMARY:MallorcaJS - Ionic and AngularJS : the perfect match for hybrid app
s
TRANSP:OPAQUE
END:VEVENT
END:VCALENDAR
