BEGIN:VCALENDAR
PRODID:-//hacksw/handcal//NONSGML v1.0//EN
VERSION:2.0
CALSCALE:GREGORIAN
METHOD:PUBLISH
X-WR-CALNAME:WordPress Barcelona - Migrando WordPress
X-WR-TIMEZONE:Europe/Madrid
X-WR-CALDESC:WordPress Barcelona - Migrando WordPress
BEGIN:VEVENT
DTSTART:20141230T180000Z
DTEND:20141230T190000Z
DTSTAMP:20141230T180000Z
UID:0d201b79290a6bd47b5af68851b4d8a7@betabeers.com
CREATED:20141206T230327Z
DESCRIPTION:https://betabeers.com/event/wordpress-barcelona-migrando-wordpr
ess-30-diciembre-2014-2347/
URL:https://betabeers.com/event/wordpress-barcelona-migrando-wordpress-30-d
iciembre-2014-2347/
LAST-MODIFIED:20141206T230327Z
LOCATION:Fontanella 2, Barcelona, España
SEQUENCE:0
STATUS:CONFIRMED
SUMMARY:WordPress Barcelona - Migrando WordPress
TRANSP:OPAQUE
END:VEVENT
END:VCALENDAR
