BEGIN:VCALENDAR
PRODID:-//hacksw/handcal//NONSGML v1.0//EN
VERSION:2.0
CALSCALE:GREGORIAN
METHOD:PUBLISH
X-WR-CALNAME:Scala Developers Barcelona - End of year Scala beers
X-WR-TIMEZONE:Europe/Madrid
X-WR-CALDESC:Scala Developers Barcelona - End of year Scala beers
BEGIN:VEVENT
DTSTART:20141215T180000Z
DTEND:20141215T190000Z
DTSTAMP:20141215T180000Z
UID:9ae8c54a7fb4a6668032cf7c77b020d0@betabeers.com
CREATED:20141206T230323Z
DESCRIPTION:https://betabeers.com/event/scala-developers-barcelona-end-year
-scala-beers-15-diciembre-2014-2346/
URL:https://betabeers.com/event/scala-developers-barcelona-end-year-scala-b
eers-15-diciembre-2014-2346/
LAST-MODIFIED:20141206T230323Z
LOCATION:-, Barcelona, España
SEQUENCE:0
STATUS:CONFIRMED
SUMMARY:Scala Developers Barcelona - End of year Scala beers
TRANSP:OPAQUE
END:VEVENT
END:VCALENDAR
