BEGIN:VCALENDAR
PRODID:-//hacksw/handcal//NONSGML v1.0//EN
VERSION:2.0
CALSCALE:GREGORIAN
METHOD:PUBLISH
X-WR-CALNAME:The Barcelona Python Meetup Group - Python December Meetup
X-WR-TIMEZONE:Europe/Madrid
X-WR-CALDESC:The Barcelona Python Meetup Group - Python December Meetup
BEGIN:VEVENT
DTSTART:20141218T180000Z
DTEND:20141218T190000Z
DTSTAMP:20141218T180000Z
UID:c94fadb9504801d5a5e02cbfa5ebd319@betabeers.com
CREATED:20141206T230212Z
DESCRIPTION:https://betabeers.com/event/the-barcelona-python-meetup-group-p
ython-december-meetup-18-diciembre-2014-2336/
URL:https://betabeers.com/event/the-barcelona-python-meetup-group-python-de
cember-meetup-18-diciembre-2014-2336/
LAST-MODIFIED:20141206T230212Z
LOCATION:c/ Dr. Aiguader, 88, Barcelona, España
SEQUENCE:0
STATUS:CONFIRMED
SUMMARY:The Barcelona Python Meetup Group - Python December Meetup
TRANSP:OPAQUE
END:VEVENT
END:VCALENDAR
