BEGIN:VCALENDAR
PRODID:-//hacksw/handcal//NONSGML v1.0//EN
VERSION:2.0
CALSCALE:GREGORIAN
METHOD:PUBLISH
X-WR-CALNAME:Webinar: Symfony2: un framework para maximizar tu productividad en desarrollo web
X-WR-TIMEZONE:Europe/Madrid
X-WR-CALDESC:Webinar: Symfony2: un framework para maximizar tu productividad en desarrollo web
BEGIN:VEVENT
DTSTART:20141126T180000Z
DTEND:20141126T190000Z
DTSTAMP:20141126T180000Z
UID:689f197b4031be0e7f8cf2568fbac66e@betabeers.com
CREATED:20141125T074456Z
DESCRIPTION:https://betabeers.com/event/webinar-symfony2-un-framework-maxim
izar-tu-productividad-desarrollo-web-2321/
URL:https://betabeers.com/event/webinar-symfony2-un-framework-maximizar-tu-
productividad-desarrollo-web-2321/
LAST-MODIFIED:20141125T074456Z
LOCATION:Online, online
SEQUENCE:0
STATUS:CONFIRMED
SUMMARY:Webinar: Symfony2: un framework para maximizar tu productividad en 
desarrollo web
TRANSP:OPAQUE
END:VEVENT
END:VCALENDAR
