BEGIN:VCALENDAR
PRODID:-//hacksw/handcal//NONSGML v1.0//EN
VERSION:2.0
CALSCALE:GREGORIAN
METHOD:PUBLISH
X-WR-CALNAME:Concurso: 2nd ITU Green ICT Application Challenge
X-WR-TIMEZONE:Europe/Madrid
X-WR-CALDESC:Concurso: 2nd ITU Green ICT Application Challenge
BEGIN:VEVENT
DTSTART:20120201T060000Z
DTEND:20120531T060000Z
DTSTAMP:20120201T060000Z
UID:b871ec1a90291175013dbf80be088aef@betabeers.com
CREATED:20120417T171542Z
DESCRIPTION:https://betabeers.com/event/concurso-2nd-itu-green-ict-applicat
ion-challenge-231/
URL:https://betabeers.com/event/concurso-2nd-itu-green-ict-application-chal
lenge-231/
LAST-MODIFIED:20120417T171542Z
LOCATION:-, Geneve, Suiza
SEQUENCE:0
STATUS:CONFIRMED
SUMMARY:Concurso: 2nd ITU Green ICT Application Challenge
TRANSP:OPAQUE
END:VEVENT
END:VCALENDAR
