BEGIN:VCALENDAR
PRODID:-//hacksw/handcal//NONSGML v1.0//EN
VERSION:2.0
CALSCALE:GREGORIAN
METHOD:PUBLISH
X-WR-CALNAME:Big Data Developers in Madrid - Big Data for Social Good Challenge (See Details for Start/End)
X-WR-TIMEZONE:Europe/Madrid
X-WR-CALDESC:Big Data Developers in Madrid - Big Data for Social Good Challenge (See Details for Start/End)
BEGIN:VEVENT
DTSTART:20150303T220000Z
DTEND:20150303T230000Z
DTSTAMP:20150303T220000Z
UID:1a1670b82d9c5f7796c90ac1ec6981ea@betabeers.com
CREATED:20141115T230059Z
DESCRIPTION:https://betabeers.com/event/big-data-developers-in-madrid-big-d
ata-for-social-good-challenge-see-details-for-start-end-2304/
URL:https://betabeers.com/event/big-data-developers-in-madrid-big-data-for-
social-good-challenge-see-details-for-start-end-2304/
LAST-MODIFIED:20141115T230059Z
LOCATION:Web only, Web only
SEQUENCE:0
STATUS:CONFIRMED
SUMMARY:Big Data Developers in Madrid - Big Data for Social Good Challenge 
(See Details for Start/End)
TRANSP:OPAQUE
END:VEVENT
END:VCALENDAR
