BEGIN:VCALENDAR
PRODID:-//hacksw/handcal//NONSGML v1.0//EN
VERSION:2.0
CALSCALE:GREGORIAN
METHOD:PUBLISH
X-WR-CALNAME:Barcelona Software Craftsmanship - MarvelKata con Jorge Castro
X-WR-TIMEZONE:Europe/Madrid
X-WR-CALDESC:Barcelona Software Craftsmanship - MarvelKata con Jorge Castro
BEGIN:VEVENT
DTSTART:20141117T180000Z
DTEND:20141117T190000Z
DTSTAMP:20141117T180000Z
UID:e169f2bd4a309066c768c09d462130c0@betabeers.com
CREATED:20141101T230121Z
DESCRIPTION:https://betabeers.com/event/barcelona-software-craftsmanship-ma
rvelkata-jorge-castro-17-noviembre-2014-2278/
URL:https://betabeers.com/event/barcelona-software-craftsmanship-marvelkata
-jorge-castro-17-noviembre-2014-2278/
LAST-MODIFIED:20141101T230121Z
LOCATION:-, Barcelona, España
SEQUENCE:0
STATUS:CONFIRMED
SUMMARY:Barcelona Software Craftsmanship - MarvelKata con Jorge Castro
TRANSP:OPAQUE
END:VEVENT
END:VCALENDAR
