BEGIN:VCALENDAR
PRODID:-//hacksw/handcal//NONSGML v1.0//EN
VERSION:2.0
CALSCALE:GREGORIAN
METHOD:PUBLISH
X-WR-CALNAME:WordPress Barcelona - WordPress HTTPS y certificados
X-WR-TIMEZONE:Europe/Madrid
X-WR-CALDESC:WordPress Barcelona - WordPress HTTPS y certificados
BEGIN:VEVENT
DTSTART:20141125T180000Z
DTEND:20141125T190000Z
DTSTAMP:20141125T180000Z
UID:29d0e96e90644f1014787317f2257adb@betabeers.com
CREATED:20141101T230112Z
DESCRIPTION:https://betabeers.com/event/wordpress-barcelona-wordpress-https
-certificados-25-noviembre-2014-2276/
URL:https://betabeers.com/event/wordpress-barcelona-wordpress-https-certifi
cados-25-noviembre-2014-2276/
LAST-MODIFIED:20141101T230112Z
LOCATION:Fontanella 2, Barcelona, España
SEQUENCE:0
STATUS:CONFIRMED
SUMMARY:WordPress Barcelona - WordPress HTTPS y certificados
TRANSP:OPAQUE
END:VEVENT
END:VCALENDAR
