BEGIN:VCALENDAR
PRODID:-//hacksw/handcal//NONSGML v1.0//EN
VERSION:2.0
CALSCALE:GREGORIAN
METHOD:PUBLISH
X-WR-CALNAME:Scala Developers Barcelona - Scalatron tournament
X-WR-TIMEZONE:Europe/Madrid
X-WR-CALDESC:Scala Developers Barcelona - Scalatron tournament
BEGIN:VEVENT
DTSTART:20141106T180000Z
DTEND:20141106T190000Z
DTSTAMP:20141106T180000Z
UID:47a346454b7540553db62c1b003ec12f@betabeers.com
CREATED:20141101T230110Z
DESCRIPTION:https://betabeers.com/event/scala-developers-barcelona-scalatro
n-tournament-6-noviembre-2014-2275/
URL:https://betabeers.com/event/scala-developers-barcelona-scalatron-tourna
ment-6-noviembre-2014-2275/
LAST-MODIFIED:20141101T230110Z
LOCATION:-, Barcelona, España
SEQUENCE:0
STATUS:CONFIRMED
SUMMARY:Scala Developers Barcelona - Scalatron tournament
TRANSP:OPAQUE
END:VEVENT
END:VCALENDAR
