BEGIN:VCALENDAR
PRODID:-//hacksw/handcal//NONSGML v1.0//EN
VERSION:2.0
CALSCALE:GREGORIAN
METHOD:PUBLISH
X-WR-CALNAME:Docker Barcelona - Docker Global hack Day #2 - Barcelona Edition
X-WR-TIMEZONE:Europe/Madrid
X-WR-CALDESC:Docker Barcelona - Docker Global hack Day #2 - Barcelona Edition
BEGIN:VEVENT
DTSTART:20141030T080000Z
DTEND:20141030T090000Z
DTSTAMP:20141030T080000Z
UID:5734d1741567baeb41f54e325555ef71@betabeers.com
CREATED:20141018T230043Z
DESCRIPTION:https://betabeers.com/event/docker-barcelona-docker-global-hack
-day-2-barcelona-edition-30-octubre-2014-2233/
URL:https://betabeers.com/event/docker-barcelona-docker-global-hack-day-2-b
arcelona-edition-30-octubre-2014-2233/
LAST-MODIFIED:20141018T230043Z
LOCATION:Av. Joan Carles I, 64, Barcelona, España
SEQUENCE:0
STATUS:CONFIRMED
SUMMARY:Docker Barcelona - Docker Global hack Day #2 - Barcelona Edition
TRANSP:OPAQUE
END:VEVENT
END:VCALENDAR
