BEGIN:VCALENDAR
PRODID:-//hacksw/handcal//NONSGML v1.0//EN
VERSION:2.0
CALSCALE:GREGORIAN
METHOD:PUBLISH
X-WR-CALNAME:The Barcelona Python Meetup Group - Go Meetup (#Golang)
X-WR-TIMEZONE:Europe/Madrid
X-WR-CALDESC:The Barcelona Python Meetup Group - Go Meetup (#Golang)
BEGIN:VEVENT
DTSTART:20141013T180000Z
DTEND:20141013T190000Z
DTSTAMP:20141013T180000Z
UID:6f781a6ae10b089f593d0ab5b7813e3c@betabeers.com
CREATED:20141004T230008Z
DESCRIPTION:https://betabeers.com/event/the-barcelona-python-meetup-group-g
o-meetup-golang-13-octubre-2014-2184/
URL:https://betabeers.com/event/the-barcelona-python-meetup-group-go-meetup
-golang-13-octubre-2014-2184/
LAST-MODIFIED:20141004T230008Z
LOCATION:c/ Dr. Aiguader, 88, Barcelona, España
SEQUENCE:0
STATUS:CONFIRMED
SUMMARY:The Barcelona Python Meetup Group - Go Meetup (#Golang)
TRANSP:OPAQUE
END:VEVENT
END:VCALENDAR
