BEGIN:VCALENDAR
PRODID:-//hacksw/handcal//NONSGML v1.0//EN
VERSION:2.0
CALSCALE:GREGORIAN
METHOD:PUBLISH
X-WR-CALNAME:Netsaimada: Coding Dojo de TDD en C#
X-WR-TIMEZONE:Europe/Madrid
X-WR-CALDESC:Netsaimada: Coding Dojo de TDD en C#
BEGIN:VEVENT
DTSTART:20141016T173000Z
DTEND:20141016T193000Z
DTSTAMP:20141016T173000Z
UID:1e785b4ce2fd92c490dca4ed41c47702@betabeers.com
CREATED:20141002T112204Z
DESCRIPTION:https://betabeers.com/event/netsaimada-coding-dojo-tdd-c-2182/
URL:https://betabeers.com/event/netsaimada-coding-dojo-tdd-c-2182/
LAST-MODIFIED:20141002T112204Z
LOCATION:MICTT, Blaise Pascal, Ed. Europa, 2pl. ParcBit, Palma, España
SEQUENCE:0
STATUS:CONFIRMED
SUMMARY:Netsaimada: Coding Dojo de TDD en C#
TRANSP:OPAQUE
END:VEVENT
END:VCALENDAR
