BEGIN:VCALENDAR
PRODID:-//hacksw/handcal//NONSGML v1.0//EN
VERSION:2.0
CALSCALE:GREGORIAN
METHOD:PUBLISH
X-WR-CALNAME:Betabeers GDG Cádiz XXII
X-WR-TIMEZONE:Europe/Madrid
X-WR-CALDESC:Betabeers GDG Cádiz XXII
BEGIN:VEVENT
DTSTART:20140926T170000Z
DTEND:20140926T200000Z
DTSTAMP:20140926T170000Z
UID:63dc5aebe0012e86239982ee2f46699a@betabeers.com
CREATED:20140923T100602Z
DESCRIPTION:https://betabeers.com/event/betabeers-gdg-cadiz-xxii-2171/
URL:https://betabeers.com/event/betabeers-gdg-cadiz-xxii-2171/
LAST-MODIFIED:20140923T100602Z
LOCATION:C/ Manantial, 13, Edificio CEEI · Pol. Industrial Las Salinas de 
San José Bajo · 11500 El Puerto de Santa María (Cádiz) España, Cadiz, 
España
SEQUENCE:0
STATUS:CONFIRMED
SUMMARY:Betabeers GDG Cádiz XXII
TRANSP:OPAQUE
END:VEVENT
END:VCALENDAR
