BEGIN:VCALENDAR
PRODID:-//hacksw/handcal//NONSGML v1.0//EN
VERSION:2.0
CALSCALE:GREGORIAN
METHOD:PUBLISH
X-WR-CALNAME:Jornada sobre 'Búsqueda de Financiación' en La Salle Technova
X-WR-TIMEZONE:Europe/Madrid
X-WR-CALDESC:Jornada sobre 'Búsqueda de Financiación' en La Salle Technova
BEGIN:VEVENT
DTSTART:20141021T080000Z
DTEND:20141021T130000Z
DTSTAMP:20141021T080000Z
UID:9f2ae1b57a55fd8b8702363c40a40ef0@betabeers.com
CREATED:20140922T111439Z
DESCRIPTION:https://betabeers.com/event/jornada-sobre-busqueda-financiacion
-la-salle-technova-2167/
URL:https://betabeers.com/event/jornada-sobre-busqueda-financiacion-la-sall
e-technova-2167/
LAST-MODIFIED:20140922T111439Z
LOCATION:Carrer de Sant Joan de la Salle, 42, Barcelona, España
SEQUENCE:0
STATUS:CONFIRMED
SUMMARY:Jornada sobre 'Búsqueda de Financiación' en La Salle Technova
TRANSP:OPAQUE
END:VEVENT
END:VCALENDAR
