BEGIN:VCALENDAR
PRODID:-//hacksw/handcal//NONSGML v1.0//EN
VERSION:2.0
CALSCALE:GREGORIAN
METHOD:PUBLISH
X-WR-CALNAME:Barcelona Coding Bootcamp
X-WR-TIMEZONE:Europe/Madrid
X-WR-CALDESC:Barcelona Coding Bootcamp
BEGIN:VEVENT
DTSTART:20120426T180000Z
DTEND:20120426T200000Z
DTSTAMP:20120426T180000Z
UID:69f1745ebebcb386a4c362b29123afb4@betabeers.com
CREATED:20120404T130446Z
DESCRIPTION:https://betabeers.com/event/barcelona-coding-bootcamp-26-abril-
2012-215/
URL:https://betabeers.com/event/barcelona-coding-bootcamp-26-abril-2012-215
/
LAST-MODIFIED:20120404T130446Z
LOCATION:Xing Barcelona, Consell de Cent 334-336, E-1, Barcelona, España
SEQUENCE:0
STATUS:CONFIRMED
SUMMARY:Barcelona Coding Bootcamp
TRANSP:OPAQUE
END:VEVENT
END:VCALENDAR
