BEGIN:VCALENDAR
PRODID:-//hacksw/handcal//NONSGML v1.0//EN
VERSION:2.0
CALSCALE:GREGORIAN
METHOD:PUBLISH
X-WR-CALNAME:Barcelona Software Craftsmanship - Meetup con Pablo Tortorella
X-WR-TIMEZONE:Europe/Madrid
X-WR-CALDESC:Barcelona Software Craftsmanship - Meetup con Pablo Tortorella
BEGIN:VEVENT
DTSTART:20140915T180000Z
DTEND:20140915T190000Z
DTSTAMP:20140915T180000Z
UID:5afc80e08e32860bc1ba4858f15f6fb3@betabeers.com
CREATED:20140906T230110Z
DESCRIPTION:https://betabeers.com/event/barcelona-software-craftsmanship-me
etup-pablo-tortorella-15-septiembre-2014-2122/
URL:https://betabeers.com/event/barcelona-software-craftsmanship-meetup-pab
lo-tortorella-15-septiembre-2014-2122/
LAST-MODIFIED:20140906T230110Z
LOCATION:Carrer dels Almogàvers, 123, Barcelona, España
SEQUENCE:0
STATUS:CONFIRMED
SUMMARY:Barcelona Software Craftsmanship - Meetup con Pablo Tortorella
TRANSP:OPAQUE
END:VEVENT
END:VCALENDAR
